BEGIN:VCALENDAR
VERSION:2.0
PRODID:-//SpearHead Winery - ECPv6.15.14//NONSGML v1.0//EN
CALSCALE:GREGORIAN
METHOD:PUBLISH
X-ORIGINAL-URL:https://www.spearheadwinery.com
X-WR-CALDESC:Events for SpearHead Winery
REFRESH-INTERVAL;VALUE=DURATION:PT1H
X-Robots-Tag:noindex
X-PUBLISHED-TTL:PT1H
BEGIN:VTIMEZONE
TZID:America/Vancouver
BEGIN:DAYLIGHT
TZOFFSETFROM:-0800
TZOFFSETTO:-0700
TZNAME:PDT
DTSTART:20240310T100000
END:DAYLIGHT
BEGIN:STANDARD
TZOFFSETFROM:-0700
TZOFFSETTO:-0800
TZNAME:PST
DTSTART:20241103T090000
END:STANDARD
BEGIN:DAYLIGHT
TZOFFSETFROM:-0800
TZOFFSETTO:-0700
TZNAME:PDT
DTSTART:20250309T100000
END:DAYLIGHT
BEGIN:STANDARD
TZOFFSETFROM:-0700
TZOFFSETTO:-0800
TZNAME:PST
DTSTART:20251102T090000
END:STANDARD
BEGIN:DAYLIGHT
TZOFFSETFROM:-0800
TZOFFSETTO:-0700
TZNAME:PDT
DTSTART:20260308T100000
END:DAYLIGHT
BEGIN:STANDARD
TZOFFSETFROM:-0700
TZOFFSETTO:-0800
TZNAME:PST
DTSTART:20261101T090000
END:STANDARD
END:VTIMEZONE
BEGIN:VEVENT
DTSTART;TZID=America/Vancouver:20251129T163000
DTEND;TZID=America/Vancouver:20251129T200000
DTSTAMP:20260419T082129
CREATED:20251105T221944Z
LAST-MODIFIED:20251114T022443Z
UID:1729-1764433800-1764446400@www.spearheadwinery.com
SUMMARY:Member Exclusive Christmas Light Up
DESCRIPTION:Sat\, Nov 29\, 2025\n\nSwing by SpearHead Winery to collect your winter club order during our Light Up SpearHead event – a casual\, member exclusive\, open house event. Enjoy hot chocolate\, smores\, and Christmas cheer.\nThis is a relaxed\, drop-in style evening—come by whenever works for you between 4:30PM and 8PM.\nWe look forward to welcoming members to this event.\n\nRSVP HERE.
URL:https://www.spearheadwinery.com/event/christmas-light-up/
LOCATION:Spearhead Winery\, 3950 Spiers Rd\, Kelowna\, BC\, V1W 4B3\, Canada
CATEGORIES:Wine Club Exclusive
ATTACH;FMTTYPE=image/jpeg:https://www.spearheadwinery.com/wp-content/uploads/2025/11/Winter-Wonderland_1-scaled.jpg
END:VEVENT
BEGIN:VEVENT
DTSTART;TZID=America/Vancouver:20250606T160000
DTEND;TZID=America/Vancouver:20250606T190000
DTSTAMP:20260419T082129
CREATED:20250523T032942Z
LAST-MODIFIED:20250529T220358Z
UID:1509-1749225600-1749236400@www.spearheadwinery.com
SUMMARY:Member Exclusive Pick Up Party
DESCRIPTION:Fri\, Jun 6\, 2025\nSwing by SpearHead Winery to collect your summer club order during our June 6 Pick Up Party – a casual\, member exclusive\, open house event. Enjoy live music from local artist Devin Moody as you mingle\, sip\, and celebrate the debut release of our highly anticipated 2023 Jagged Ridge Pinot Noir. \nThis is a relaxed\, drop-in style evening—come by whenever works for you between 4 and 7 PM. \nTHIS EVENT IS NOW FULL. \nWe welcome you to join us for a tasting on the patio June 7 or 8. Book your visit.
URL:https://www.spearheadwinery.com/event/member-exclusive-pick-up-party/
LOCATION:Spearhead Winery\, 3950 Spiers Rd\, Kelowna\, BC\, V1W 4B3\, Canada
CATEGORIES:Wine Club Exclusive
END:VEVENT
END:VCALENDAR