BEGIN:VCALENDAR
VERSION:2.0
PRODID:-//SpearHead Winery - ECPv6.15.14//NONSGML v1.0//EN
CALSCALE:GREGORIAN
METHOD:PUBLISH
X-WR-CALNAME:SpearHead Winery
X-ORIGINAL-URL:https://www.spearheadwinery.com
X-WR-CALDESC:Events for SpearHead Winery
REFRESH-INTERVAL;VALUE=DURATION:PT1H
X-Robots-Tag:noindex
X-PUBLISHED-TTL:PT1H
BEGIN:VTIMEZONE
TZID:America/Vancouver
BEGIN:DAYLIGHT
TZOFFSETFROM:-0800
TZOFFSETTO:-0700
TZNAME:PDT
DTSTART:20240310T100000
END:DAYLIGHT
BEGIN:STANDARD
TZOFFSETFROM:-0700
TZOFFSETTO:-0800
TZNAME:PST
DTSTART:20241103T090000
END:STANDARD
BEGIN:DAYLIGHT
TZOFFSETFROM:-0800
TZOFFSETTO:-0700
TZNAME:PDT
DTSTART:20250309T100000
END:DAYLIGHT
BEGIN:STANDARD
TZOFFSETFROM:-0700
TZOFFSETTO:-0800
TZNAME:PST
DTSTART:20251102T090000
END:STANDARD
BEGIN:DAYLIGHT
TZOFFSETFROM:-0800
TZOFFSETTO:-0700
TZNAME:PDT
DTSTART:20260308T100000
END:DAYLIGHT
BEGIN:STANDARD
TZOFFSETFROM:-0700
TZOFFSETTO:-0800
TZNAME:PST
DTSTART:20261101T090000
END:STANDARD
END:VTIMEZONE
BEGIN:VEVENT
DTSTART;VALUE=DATE:20250723
DTEND;VALUE=DATE:20250727
DTSTAMP:20260419T103305
CREATED:20250614T190809Z
LAST-MODIFIED:20250702T223244Z
UID:1543-1753228800-1753574399@www.spearheadwinery.com
SUMMARY:Shakespeare Kelowna at SpearHead Winery
DESCRIPTION:Presenting William Shakespeare’s Long Lost First Play. \nJoin us for an evening of hilarious live theatre and fantastic wine as Shakespeare Kelowna performs William Shakespeare’s Long Lost First Play. Gates open at 7pm. Show starts at 7:30pm. Tickets are $45 per person. \nWeek One: Wednesday\, July 16 through Sunday\, July 20. \nWeek Two: Wednesday\, July 23 through Saturday\, July 26. \nPlease be sure to pack your hat\, sunscreen and a blanket or jacket.
URL:https://www.spearheadwinery.com/event/shakespeare-kelowna-at-spearhead-winery/
LOCATION:Spearhead Winery\, 3950 Spiers Rd\, Kelowna\, BC\, V1W 4B3\, Canada
ATTACH;FMTTYPE=image/jpeg:https://www.spearheadwinery.com/wp-content/uploads/2025/06/LLFP-graphic-scaled.jpg
END:VEVENT
BEGIN:VEVENT
DTSTART;VALUE=DATE:20250716
DTEND;VALUE=DATE:20250721
DTSTAMP:20260419T103305
CREATED:20250614T191701Z
LAST-MODIFIED:20250702T223328Z
UID:1547-1752624000-1753055999@www.spearheadwinery.com
SUMMARY:Shakespeare Kelowna at SpearHead Winery
DESCRIPTION:Presenting William Shakespeare’s Long Lost First Play. \nJoin us for an evening of hilarious live theatre and fantastic wine as Shakespeare Kelowna performs William Shakespeare’s Long Lost First Play. Gates open at 7pm. Show starts at 7:30pm. Tickets are $45 per person. \nWeek One: Wednesday\, July 16 through Sunday\, July 20. \nWeek Two: Wednesday\, July 23 through Saturday\, July 26. \nPlease be sure to pack your hat\, sunscreen and a blanket or jacket.
URL:https://www.spearheadwinery.com/event/shakespeare-kelowna-at-spearhead-winery-2/
LOCATION:Spearhead Winery\, 3950 Spiers Rd\, Kelowna\, BC\, V1W 4B3\, Canada
ATTACH;FMTTYPE=image/jpeg:https://www.spearheadwinery.com/wp-content/uploads/2025/06/LLFP-graphic-scaled.jpg
END:VEVENT
BEGIN:VEVENT
DTSTART;TZID=America/Vancouver:20250615T110000
DTEND;TZID=America/Vancouver:20250615T173000
DTSTAMP:20260419T103305
CREATED:20250601T191052Z
LAST-MODIFIED:20250601T191052Z
UID:1529-1749985200-1750008600@www.spearheadwinery.com
SUMMARY:Father's Day Poker Run
DESCRIPTION:Explore wineries\, cideries\, a brewery & distillery in beautiful South East Kelowna.\nJoin us June 14 & 15 for our Father’s Day Poker Run.\nPick a card at 5 of 10 locations and see who can build the best Poker Hand.\nPrizes go to the best two hands.\nHours per business location may vary.\nSpearHead will be open 11am to 7pm Saturday and 11am to 5:30pm Sunday.
URL:https://www.spearheadwinery.com/event/fathers-day-poker-run-2/
LOCATION:Spearhead Winery\, 3950 Spiers Rd\, Kelowna\, BC\, V1W 4B3\, Canada
ATTACH;FMTTYPE=image/png:https://www.spearheadwinery.com/wp-content/uploads/2025/06/2025-Poker-Run-_-instagram.png
END:VEVENT
BEGIN:VEVENT
DTSTART;TZID=America/Vancouver:20250614T110000
DTEND;TZID=America/Vancouver:20250614T190000
DTSTAMP:20260419T103305
CREATED:20250601T190926Z
LAST-MODIFIED:20250601T190926Z
UID:1526-1749898800-1749927600@www.spearheadwinery.com
SUMMARY:Father's Day Poker Run
DESCRIPTION:Explore wineries\, cideries\, a brewery & distillery in beautiful South East Kelowna.\nJoin us June 14 & 15 for our Father’s Day Poker Run.\nPick a card at 5 of 10 locations and see who can build the best Poker Hand.\nPrizes go to the best two hands.\nHours per business location may vary.\nSpearHead will be open 11am to 7pm Saturday and 11am to 5:30pm Sunday.
URL:https://www.spearheadwinery.com/event/fathers-day-poker-run/
LOCATION:Spearhead Winery\, 3950 Spiers Rd\, Kelowna\, BC\, V1W 4B3\, Canada
ATTACH;FMTTYPE=image/png:https://www.spearheadwinery.com/wp-content/uploads/2025/06/2025-Poker-Run-_-instagram.png
END:VEVENT
BEGIN:VEVENT
DTSTART;TZID=America/Vancouver:20250606T160000
DTEND;TZID=America/Vancouver:20250606T190000
DTSTAMP:20260419T103305
CREATED:20250523T032942Z
LAST-MODIFIED:20250529T220358Z
UID:1509-1749225600-1749236400@www.spearheadwinery.com
SUMMARY:Member Exclusive Pick Up Party
DESCRIPTION:Fri\, Jun 6\, 2025\nSwing by SpearHead Winery to collect your summer club order during our June 6 Pick Up Party – a casual\, member exclusive\, open house event. Enjoy live music from local artist Devin Moody as you mingle\, sip\, and celebrate the debut release of our highly anticipated 2023 Jagged Ridge Pinot Noir. \nThis is a relaxed\, drop-in style evening—come by whenever works for you between 4 and 7 PM. \nTHIS EVENT IS NOW FULL. \nWe welcome you to join us for a tasting on the patio June 7 or 8. Book your visit.
URL:https://www.spearheadwinery.com/event/member-exclusive-pick-up-party/
LOCATION:Spearhead Winery\, 3950 Spiers Rd\, Kelowna\, BC\, V1W 4B3\, Canada
CATEGORIES:Wine Club Exclusive
END:VEVENT
END:VCALENDAR