BEGIN:VCALENDAR
VERSION:2.0
PRODID:-//SpearHead Winery - ECPv6.15.14//NONSGML v1.0//EN
CALSCALE:GREGORIAN
METHOD:PUBLISH
X-WR-CALNAME:SpearHead Winery
X-ORIGINAL-URL:https://www.spearheadwinery.com
X-WR-CALDESC:Events for SpearHead Winery
REFRESH-INTERVAL;VALUE=DURATION:PT1H
X-Robots-Tag:noindex
X-PUBLISHED-TTL:PT1H
BEGIN:VTIMEZONE
TZID:America/Vancouver
BEGIN:DAYLIGHT
TZOFFSETFROM:-0800
TZOFFSETTO:-0700
TZNAME:PDT
DTSTART:20250309T100000
END:DAYLIGHT
BEGIN:STANDARD
TZOFFSETFROM:-0700
TZOFFSETTO:-0800
TZNAME:PST
DTSTART:20251102T090000
END:STANDARD
BEGIN:DAYLIGHT
TZOFFSETFROM:-0800
TZOFFSETTO:-0700
TZNAME:PDT
DTSTART:20260308T100000
END:DAYLIGHT
BEGIN:STANDARD
TZOFFSETFROM:-0700
TZOFFSETTO:-0800
TZNAME:PST
DTSTART:20261101T090000
END:STANDARD
BEGIN:DAYLIGHT
TZOFFSETFROM:-0800
TZOFFSETTO:-0700
TZNAME:PDT
DTSTART:20270314T100000
END:DAYLIGHT
BEGIN:STANDARD
TZOFFSETFROM:-0700
TZOFFSETTO:-0800
TZNAME:PST
DTSTART:20271107T090000
END:STANDARD
END:VTIMEZONE
BEGIN:VEVENT
DTSTART;TZID=America/Vancouver:20260207T120000
DTEND;TZID=America/Vancouver:20260207T150000
DTSTAMP:20260419T060749
CREATED:20260125T210310Z
LAST-MODIFIED:20260125T210310Z
UID:1800-1770465600-1770476400@www.spearheadwinery.com
SUMMARY:Art with Heart
DESCRIPTION:An afternoon with Andrea Devan Art\n\nSaturday\, February 7 | 12–3pm\nJoin us in the wine shop for a relaxed\, art-filled afternoon featuring Andrea Devan Art\, a talented local artist known for her joyful\, hand-drawn illustrations.\nInspired by animals\, nature\, cozy moments\, and seasonal traditions\, Andrea’s work is playful\, nostalgic\, and full of heart. Each piece is thoughtfully illustrated and designed to celebrate everyday moments—whether through prints\, greeting cards\, or charming keepsakes. As we approach Valentine’s Day\, find some seasonal art that will make the perfect gift for someone special.\nBased in the Okanagan Valley\, Andrea brings a distinctly local touch to her art and loves connecting with the community behind her work. Stop by\, sip some wine\, browse her collection\, and enjoy a little mid-winter whimsy.\n\nNo reservations required—just good wine\, beautiful art\, and an easy Saturday afternoon.
URL:https://www.spearheadwinery.com/event/art-with-heart/
LOCATION:Spearhead Winery\, 3950 Spiers Rd\, Kelowna\, BC\, V1W 4B3\, Canada
ATTACH;FMTTYPE=image/jpeg:https://www.spearheadwinery.com/wp-content/uploads/2026/01/Andrea-Devan-scaled.jpg
END:VEVENT
BEGIN:VEVENT
DTSTART;TZID=America/Vancouver:20260214T120000
DTEND;TZID=America/Vancouver:20260214T150000
DTSTAMP:20260419T060749
CREATED:20260125T214302Z
LAST-MODIFIED:20260203T220133Z
UID:1803-1771070400-1771081200@www.spearheadwinery.com
SUMMARY:Pinot & Puppies
DESCRIPTION:Pinot & Puppies\nValentine’s Day Fundraiser for Paws It Forward \nJoin us for our annual Valentine’s Day fundraiser in support of Paws It Forward\, featuring adoptable dogs onsite from 12-3pm. Guests are invited to meet the pups\, learn about adoption\, and snap a photo in our Snuggle Booth with their favourite furry Valentine (photo by donation). \nWhile you visit\, enjoy the chance to taste our newly released Pinot Noirs\, making it an afternoon of great wine\, wagging tails\, and community spirit. \nTo help raise funds for this incredible local rescue\, we’ll also be running a raffle in support of Paws It Forward. \nRaffle Details\n$5 per ticket (100% of proceeds go to Paws It Forward)\nPrize: A custom 16” x 16” gallery-wrapped canvas pet portrait\nValue: $570\nArtwork commissioned by Merryn Lamb\nRaffle drawn Thursday\, February 26 \nWhether you’re looking to adopt a dog\, give back\, or simply spend an afternoon surrounded by Pinot Noir\, puppies\, and good energy\, this is a Valentine’s celebration with heart.
URL:https://www.spearheadwinery.com/event/1803/
LOCATION:Spearhead Winery\, 3950 Spiers Rd\, Kelowna\, BC\, V1W 4B3\, Canada
ATTACH;FMTTYPE=image/png:https://www.spearheadwinery.com/wp-content/uploads/2026/01/Pinot-Puppies.png
END:VEVENT
END:VCALENDAR