BEGIN:VCALENDAR
VERSION:2.0
PRODID:-//SpearHead Winery - ECPv6.15.14//NONSGML v1.0//EN
CALSCALE:GREGORIAN
METHOD:PUBLISH
X-WR-CALNAME:SpearHead Winery
X-ORIGINAL-URL:https://www.spearheadwinery.com
X-WR-CALDESC:Events for SpearHead Winery
REFRESH-INTERVAL;VALUE=DURATION:PT1H
X-Robots-Tag:noindex
X-PUBLISHED-TTL:PT1H
BEGIN:VTIMEZONE
TZID:America/Vancouver
BEGIN:DAYLIGHT
TZOFFSETFROM:-0800
TZOFFSETTO:-0700
TZNAME:PDT
DTSTART:20250309T100000
END:DAYLIGHT
BEGIN:STANDARD
TZOFFSETFROM:-0700
TZOFFSETTO:-0800
TZNAME:PST
DTSTART:20251102T090000
END:STANDARD
BEGIN:DAYLIGHT
TZOFFSETFROM:-0800
TZOFFSETTO:-0700
TZNAME:PDT
DTSTART:20260308T100000
END:DAYLIGHT
BEGIN:STANDARD
TZOFFSETFROM:-0700
TZOFFSETTO:-0800
TZNAME:PST
DTSTART:20261101T090000
END:STANDARD
BEGIN:DAYLIGHT
TZOFFSETFROM:-0800
TZOFFSETTO:-0700
TZNAME:PDT
DTSTART:20270314T100000
END:DAYLIGHT
BEGIN:STANDARD
TZOFFSETFROM:-0700
TZOFFSETTO:-0800
TZNAME:PST
DTSTART:20271107T090000
END:STANDARD
END:VTIMEZONE
BEGIN:VEVENT
DTSTART;TZID=America/Vancouver:20260612T160000
DTEND;TZID=America/Vancouver:20260612T190000
DTSTAMP:20260419T093125
CREATED:20260330T012407Z
LAST-MODIFIED:20260417T054055Z
UID:1840-1781280000-1781290800@www.spearheadwinery.com
SUMMARY:Member Exclusive Pick Up Party
DESCRIPTION:Friday\, June 12 | 4-7pm \nSwing by the winery to collect your summer club order during our casual open house event. Enjoy music from a couple of local DJs as you mingle\, sip\, and celebrate the the warm summer days to come. Tickets are complimentary and include you plus one guest. Each guest will be greeted with a splash of our new Pinot Gris. \nThis is a relaxed\, drop-in style evening—come by whenever works for you between 4 and 7 PM. \nDue to capacity limits RSVPs are required. RSVPs go live Friday\, May 29 at 10am.
URL:https://www.spearheadwinery.com/event/member-exclusive-pick-up-party-2/
LOCATION:Spearhead Winery\, 3950 Spiers Rd\, Kelowna\, BC\, V1W 4B3\, Canada
CATEGORIES:Wine Club Exclusive
ATTACH;FMTTYPE=image/png:https://www.spearheadwinery.com/wp-content/uploads/2025/05/PickUpParty-500x500-1.png
END:VEVENT
END:VCALENDAR